BEGIN:VCALENDAR
VERSION:2.0
PRODID:-//eventon.com NONSGML v1.0//EN
CALSCALE:GREGORIAN
METHOD:PUBLISH
BEGIN:VEVENT
UID:69e745f248979
DTSTAMP:20260421T094002Z
DTSTART:20260220T150000Z
DTEND:20260220T180000Z
LOCATION:
SUMMARY:Cómo las Empresas Pueden Enfrentar las Reformas Fiscales 2026
DESCRIPTION:Las reformas fiscales de 2026 representan un cambio importante 
 en la forma en que las empresas cumplen con sus obligaciones ante el SAT. E
 stos ajustes buscan mayor control\,  digitalización y transparencia\,  por
  lo que ya no basta con reaccionar: ahora es clave anticiparse. En esta con
 ferencia hablaremos de cómo las[..]\nhttps://as.com.mx/events/como-las-emp
 resas-pueden-enfrentar-las-reformas-fiscales-2026/
URL:https://as.com.mx/events/como-las-empresas-pueden-enfrentar-las-reformas-fiscales-2026/
END:VEVENT
END:VCALENDAR